BEGIN:VCALENDAR
VERSION:2.0
PRODID:-//Centerstone - ECPv6.15.20//NONSGML v1.0//EN
CALSCALE:GREGORIAN
METHOD:PUBLISH
X-MS-OLK-FORCEINSPECTOROPEN:TRUE
X-ORIGINAL-URL:https://centerstone.org
X-WR-CALDESC:Events for Centerstone
REFRESH-INTERVAL;VALUE=DURATION:PT1H
X-Robots-Tag:noindex
X-PUBLISHED-TTL:PT1H
BEGIN:VTIMEZONE
TZID:America/Chicago
BEGIN:DAYLIGHT
TZOFFSETFROM:-0600
TZOFFSETTO:-0500
TZNAME:CDT
DTSTART:20250309T080000
END:DAYLIGHT
BEGIN:STANDARD
TZOFFSETFROM:-0500
TZOFFSETTO:-0600
TZNAME:CST
DTSTART:20251102T070000
END:STANDARD
BEGIN:DAYLIGHT
TZOFFSETFROM:-0600
TZOFFSETTO:-0500
TZNAME:CDT
DTSTART:20260308T080000
END:DAYLIGHT
BEGIN:STANDARD
TZOFFSETFROM:-0500
TZOFFSETTO:-0600
TZNAME:CST
DTSTART:20261101T070000
END:STANDARD
BEGIN:DAYLIGHT
TZOFFSETFROM:-0600
TZOFFSETTO:-0500
TZNAME:CDT
DTSTART:20270314T080000
END:DAYLIGHT
BEGIN:STANDARD
TZOFFSETFROM:-0500
TZOFFSETTO:-0600
TZNAME:CST
DTSTART:20271107T070000
END:STANDARD
END:VTIMEZONE
BEGIN:VEVENT
DTSTART;TZID=America/Chicago:20260424T100000
DTEND;TZID=America/Chicago:20260424T150000
DTSTAMP:20260423T174516
CREATED:20260102T223333Z
LAST-MODIFIED:20260417T231856Z
UID:102099-1777024800-1777042800@centerstone.org
SUMMARY:Crisis Response Plan (CRP) for Suicide Prevention Workshop
DESCRIPTION:Crisis Response Planning is a strategy designed to assist an individual who might be at risk for suicide by offering alternative self-selected actions and activities they can use in times of crisis. Peers\, friends\, family and clinical providers can support the planning process and provide solid options which they can utilize during different phases of a suicidal crisis. \nThis workshop is designed to enhance individuals’ knowledge about crisis response planning (CRP) for managing acute suicide risk\, and to increase their ability to administer this intervention confidently and competently with at-risk individuals. \nTraining Components \n\nA live\, virtual 5-hour CRP workshop\nAccess to our online portal\, with resources for CRP implementation\nFor Clinicians – 4.5 continuing education credits\n\nClick here to learn more about this training opportunity. 
URL:https://centerstone.org/event/crisis-response-plan-crp-for-suicide-prevention-workshop-0424206/
LOCATION:Virtual event
CATEGORIES:Military Services Training
END:VEVENT
END:VCALENDAR