BEGIN:VCALENDAR
VERSION:2.0
PRODID:-//Centerstone - ECPv6.15.20//NONSGML v1.0//EN
CALSCALE:GREGORIAN
METHOD:PUBLISH
X-MS-OLK-FORCEINSPECTOROPEN:TRUE
X-ORIGINAL-URL:https://centerstone.org
X-WR-CALDESC:Events for Centerstone
REFRESH-INTERVAL;VALUE=DURATION:PT1H
X-Robots-Tag:noindex
X-PUBLISHED-TTL:PT1H
BEGIN:VTIMEZONE
TZID:America/Chicago
BEGIN:DAYLIGHT
TZOFFSETFROM:-0600
TZOFFSETTO:-0500
TZNAME:CDT
DTSTART:20250309T080000
END:DAYLIGHT
BEGIN:STANDARD
TZOFFSETFROM:-0500
TZOFFSETTO:-0600
TZNAME:CST
DTSTART:20251102T070000
END:STANDARD
BEGIN:DAYLIGHT
TZOFFSETFROM:-0600
TZOFFSETTO:-0500
TZNAME:CDT
DTSTART:20260308T080000
END:DAYLIGHT
BEGIN:STANDARD
TZOFFSETFROM:-0500
TZOFFSETTO:-0600
TZNAME:CST
DTSTART:20261101T070000
END:STANDARD
BEGIN:DAYLIGHT
TZOFFSETFROM:-0600
TZOFFSETTO:-0500
TZNAME:CDT
DTSTART:20270314T080000
END:DAYLIGHT
BEGIN:STANDARD
TZOFFSETFROM:-0500
TZOFFSETTO:-0600
TZNAME:CST
DTSTART:20271107T070000
END:STANDARD
END:VTIMEZONE
BEGIN:VEVENT
DTSTART;TZID=America/Chicago:20260515T140000
DTEND;TZID=America/Chicago:20260515T160000
DTSTAMP:20260420T122216
CREATED:20260420T141247Z
LAST-MODIFIED:20260420T141431Z
UID:104004-1778853600-1778860800@centerstone.org
SUMMARY:Hope Starts Here: Food\, Mental Health\, and Community Support
DESCRIPTION:Hope Starts Here: Food\, Mental Health\, and Community Support\n\n\n\nJoin Centerstone and the City of West Frankfort for a community event focused on mental wellness\, practical support\, and connection.\n \n\nFriday\, May 15\, 2026\nWest Frankfort\, Illinois\n2:00 p.m. – 4:00 p.m. CT\nPublic Event\n\n\n\nEvent Details\n\n\nLocation \nCenterstone – West Frankfort Office\, 902 West Main Street\, West Frankfort\, IL 62896 \n\n\nAbout This Event \n\nThis Mental Health Awareness Month event brings the community together to support well-being\, reduce stigma\, and strengthen access to practical resources.\n \n\n\nEvent Highlights \n\nThe program includes the unveiling of an outdoor food pantry and an official proclamation reading honoring Mental Health Awareness Month.\n \n\n\nHow You Can Help \n\nAttendees are invited to bring a non-perishable food item\, hygiene product\, or cleaning supply to help stock the new outdoor pantry.\n \n\n\n\n\n\n\nQuick Details\n\nWhen: Friday\, May 15\, 2026\nTime: 2:00 p.m. – 4:00 p.m. CT\nWhere: Centerstone – West Frankfort Office\nParking: Please avoid the empty lot next to the office\n\n\n\n\n\n\n\n\n\n\nBring a Donation\n\nNon-perishable food items\, hygiene products\, and cleaning supplies are all welcome and will help stock the new outdoor pantry for community members in need.\n \n\n\n\n\n\n\nCommunity Impact\n\nThe event connects mental health awareness with tangible community support\, reinforcing that hope starts with accessible care\, shared resources\, and neighbor-to-neighbor action.\n \n\n\n\n\n\n\nCenterstone | Community Event
URL:https://centerstone.org/event/hope-starts-here-food-mental-health-and-community-support/
LOCATION:Centerstone West Frankfort\, 902 West Main\, West Frankfort\, IL\, United States
CATEGORIES:Activity,Awareness Event
ATTACH;FMTTYPE=image/jpeg:https://centerstone.org/wp-content/uploads/jpg/West_Frankfort_West_Main_Street_003.jpg
GEO:37.8972715;-88.9389173
X-APPLE-STRUCTURED-LOCATION;VALUE=URI;X-ADDRESS=Centerstone West Frankfort 902 West Main West Frankfort IL United States;X-APPLE-RADIUS=500;X-TITLE=902 West Main:geo:-88.9389173,37.8972715
END:VEVENT
END:VCALENDAR