BEGIN:VCALENDAR
VERSION:2.0
PRODID:-//Centerstone - ECPv6.15.20//NONSGML v1.0//EN
CALSCALE:GREGORIAN
METHOD:PUBLISH
X-MS-OLK-FORCEINSPECTOROPEN:TRUE
X-ORIGINAL-URL:https://centerstone.org
X-WR-CALDESC:Events for Centerstone
REFRESH-INTERVAL;VALUE=DURATION:PT1H
X-Robots-Tag:noindex
X-PUBLISHED-TTL:PT1H
BEGIN:VTIMEZONE
TZID:America/Chicago
BEGIN:DAYLIGHT
TZOFFSETFROM:-0600
TZOFFSETTO:-0500
TZNAME:CDT
DTSTART:20250309T080000
END:DAYLIGHT
BEGIN:STANDARD
TZOFFSETFROM:-0500
TZOFFSETTO:-0600
TZNAME:CST
DTSTART:20251102T070000
END:STANDARD
BEGIN:DAYLIGHT
TZOFFSETFROM:-0600
TZOFFSETTO:-0500
TZNAME:CDT
DTSTART:20260308T080000
END:DAYLIGHT
BEGIN:STANDARD
TZOFFSETFROM:-0500
TZOFFSETTO:-0600
TZNAME:CST
DTSTART:20261101T070000
END:STANDARD
BEGIN:DAYLIGHT
TZOFFSETFROM:-0600
TZOFFSETTO:-0500
TZNAME:CDT
DTSTART:20270314T080000
END:DAYLIGHT
BEGIN:STANDARD
TZOFFSETFROM:-0500
TZOFFSETTO:-0600
TZNAME:CST
DTSTART:20271107T070000
END:STANDARD
END:VTIMEZONE
BEGIN:VEVENT
DTSTART;TZID=America/Chicago:20260507T150000
DTEND;TZID=America/Chicago:20260507T170000
DTSTAMP:20260420T122246
CREATED:20260420T133358Z
LAST-MODIFIED:20260420T141634Z
UID:103998-1778166000-1778173200@centerstone.org
SUMMARY:Step Into the Conversation: You Are Not Alone
DESCRIPTION:Step Into the Conversation: You Are Not Alone\n\n\n\nJoin Centerstone in Alton this Mental Health Awareness Month for a community event centered on connection\, awareness\, and hope.\n \n\nThursday\, May 7\, 2026\nAlton\, Illinois\n3:00 p.m. – 5:00 p.m. CT\nPublic Event\n\n\n\nEvent Details\n\n\nLocation \nCenterstone Alton – Edwards Street\, 2615 Edwards Street\, Alton\, IL 62002 \n\n\nAbout This Event \n\nThis gathering recognizes Mental Health Awareness Month and invites the community to come together for a meaningful afternoon focused on connection\, awareness\, and hope.\n \n\n\nEvent Highlights \n\nThe program includes an official Mental Health Awareness Month proclamation reading and the unveiling of The Weight of the Shadow\, a sculpture by Ariana Berman commissioned by Lucas McKenney.\n \n\n\nSupport Message \n\nMental health affects us all\, and no one should have to carry that weight alone. Support is available through Centerstone and the 988 Suicide & Crisis Lifeline by calling or texting 988.\n \n\n\n\n\n\n\nQuick Details\n\nWhen: Thursday\, May 7\, 2026\nTime: 3:00 p.m. – 5:00 p.m. CT\nWhere: Centerstone Alton – Edwards Street\nAudience: Open to all community members\n\n\n\n\n\n\n\n\n\n\nWhy Attend\n\nThe event is designed to encourage conversations that matter\, reduce stigma\, and remind people in the community that they are not alone.\n \n\n\n\n\n\n\nFeatured Artwork\n\nThe Weight of the Shadow reflects the unseen emotional burdens many people carry and serves as an invitation to pause\, check in\, and start conversations that can make a difference.\n \n\n\n\n\n\n\nCenterstone | Community Event
URL:https://centerstone.org/event/step-into-the-conversation-you-are-not-alone/
LOCATION:Centerstone Alton – Edwards Street\, 2615 Edwards Street\, Alton\, IL\, 62002\, United States
CATEGORIES:Activity,Awareness Event
ATTACH;FMTTYPE=image/jpeg:https://centerstone.org/wp-content/uploads/jpg/Centerstone_Alton_Office_Exterior.jpg
GEO:38.9008946;-90.1476957
X-APPLE-STRUCTURED-LOCATION;VALUE=URI;X-ADDRESS=Centerstone Alton – Edwards Street 2615 Edwards Street Alton IL 62002 United States;X-APPLE-RADIUS=500;X-TITLE=2615 Edwards Street:geo:-90.1476957,38.9008946
END:VEVENT
END:VCALENDAR