BEGIN:VCALENDAR
VERSION:2.0
PRODID:-//Centerstone - ECPv6.15.20//NONSGML v1.0//EN
CALSCALE:GREGORIAN
METHOD:PUBLISH
X-MS-OLK-FORCEINSPECTOROPEN:TRUE
X-ORIGINAL-URL:https://centerstone.org
X-WR-CALDESC:Events for Centerstone
REFRESH-INTERVAL;VALUE=DURATION:PT1H
X-Robots-Tag:noindex
X-PUBLISHED-TTL:PT1H
BEGIN:VTIMEZONE
TZID:America/Chicago
BEGIN:DAYLIGHT
TZOFFSETFROM:-0600
TZOFFSETTO:-0500
TZNAME:CDT
DTSTART:20250309T080000
END:DAYLIGHT
BEGIN:STANDARD
TZOFFSETFROM:-0500
TZOFFSETTO:-0600
TZNAME:CST
DTSTART:20251102T070000
END:STANDARD
BEGIN:DAYLIGHT
TZOFFSETFROM:-0600
TZOFFSETTO:-0500
TZNAME:CDT
DTSTART:20260308T080000
END:DAYLIGHT
BEGIN:STANDARD
TZOFFSETFROM:-0500
TZOFFSETTO:-0600
TZNAME:CST
DTSTART:20261101T070000
END:STANDARD
BEGIN:DAYLIGHT
TZOFFSETFROM:-0600
TZOFFSETTO:-0500
TZNAME:CDT
DTSTART:20270314T080000
END:DAYLIGHT
BEGIN:STANDARD
TZOFFSETFROM:-0500
TZOFFSETTO:-0600
TZNAME:CST
DTSTART:20271107T070000
END:STANDARD
END:VTIMEZONE
BEGIN:VEVENT
DTSTART;TZID=America/Chicago:20260518T110000
DTEND;TZID=America/Chicago:20260518T120000
DTSTAMP:20260424T160433
CREATED:20260424T135734Z
LAST-MODIFIED:20260424T135734Z
UID:10004409-1779102000-1779105600@centerstone.org
SUMMARY:EncoreWorks: Build Your Next Chapter with Confidence
DESCRIPTION:EncoreWorks: Build Your Next Chapter with Confidence\n\n\n\nJoin Centerstone for EncoreWorks\, a free four-week employment support program designed to help participants sharpen job search skills\, strengthen resumes\, and prepare for their next opportunity.\n \n\nMay 18 – June 10\, 2026\nMondays and Wednesdays\n11:00 a.m. – Noon CT\nSpringfield\, Missouri\n\n\n\nEvent Details\n\n\nLocation \nCenterstone Administrative Offices\, 2885 West Battlefield Road\, Springfield\, MO \n\n\nAbout This Program \n\nEncoreWorks is a no-cost employment support program offered by Centerstone\, the nation’s largest nonprofit behavioral health provider. It was created to help community members successfully navigate today’s job market.\n \n\n\nWho Should Attend \n\nThe program is open to anyone re-entering the workforce\, changing careers\, or looking for their next role. Individuals aged 50 and older are especially encouraged to participate.\n \n\n\nWhat to Bring \n\nParticipants are encouraged to bring a laptop if available. A limited number of loaner devices will be provided.\n \n\n\n\n\n\n\nQuick Details\n\nWhen: Every Monday and Wednesday\, May 18 – June 10\, 2026\nTime: 11:00 a.m. – Noon CT\nWhere: Centerstone Administrative Offices\nFormat: In-person\, facilitator-led sessions\nCost: Free\n\n\n\n\n\n\n\n\n\n\nWhat You’ll Gain\n\nResume development and refinement\nInterview preparation and techniques\nJob search strategies and best practices\nSupport navigating online job platforms\nConfidence in your professional story\n\n\n\n\n\n\n\nMeet the Facilitators\nDavida Norwood\, Talent Acquisition Specialist \nDee DePriest\, Talent Acquisition Specialist \n\n\n\n\n\n\nCenterstone | Employment Support Program
URL:https://centerstone.org/event/encoreworks-build-your-next-chapter-with-confidence/2026-05-18/
LOCATION:Centerstone Administrative Offices – Springfield\, MO\, 2885 West Battlefield Road\, Springfield\, MO\, 65807\, United States
CATEGORIES:Activity
ATTACH;FMTTYPE=image/jpeg:https://centerstone.org/wp-content/uploads/jpg/location_default_image_new_blue-scaled.jpg
GEO:37.1605859;-93.3365478
X-APPLE-STRUCTURED-LOCATION;VALUE=URI;X-ADDRESS=Centerstone Administrative Offices – Springfield MO 2885 West Battlefield Road Springfield MO 65807 United States;X-APPLE-RADIUS=500;X-TITLE=2885 West Battlefield Road:geo:-93.3365478,37.1605859
END:VEVENT
BEGIN:VEVENT
DTSTART;TZID=America/Chicago:20260520T110000
DTEND;TZID=America/Chicago:20260520T120000
DTSTAMP:20260424T160433
CREATED:20260424T135734Z
LAST-MODIFIED:20260424T135734Z
UID:10004410-1779274800-1779278400@centerstone.org
SUMMARY:EncoreWorks: Build Your Next Chapter with Confidence
DESCRIPTION:EncoreWorks: Build Your Next Chapter with Confidence\n\n\n\nJoin Centerstone for EncoreWorks\, a free four-week employment support program designed to help participants sharpen job search skills\, strengthen resumes\, and prepare for their next opportunity.\n \n\nMay 18 – June 10\, 2026\nMondays and Wednesdays\n11:00 a.m. – Noon CT\nSpringfield\, Missouri\n\n\n\nEvent Details\n\n\nLocation \nCenterstone Administrative Offices\, 2885 West Battlefield Road\, Springfield\, MO \n\n\nAbout This Program \n\nEncoreWorks is a no-cost employment support program offered by Centerstone\, the nation’s largest nonprofit behavioral health provider. It was created to help community members successfully navigate today’s job market.\n \n\n\nWho Should Attend \n\nThe program is open to anyone re-entering the workforce\, changing careers\, or looking for their next role. Individuals aged 50 and older are especially encouraged to participate.\n \n\n\nWhat to Bring \n\nParticipants are encouraged to bring a laptop if available. A limited number of loaner devices will be provided.\n \n\n\n\n\n\n\nQuick Details\n\nWhen: Every Monday and Wednesday\, May 18 – June 10\, 2026\nTime: 11:00 a.m. – Noon CT\nWhere: Centerstone Administrative Offices\nFormat: In-person\, facilitator-led sessions\nCost: Free\n\n\n\n\n\n\n\n\n\n\nWhat You’ll Gain\n\nResume development and refinement\nInterview preparation and techniques\nJob search strategies and best practices\nSupport navigating online job platforms\nConfidence in your professional story\n\n\n\n\n\n\n\nMeet the Facilitators\nDavida Norwood\, Talent Acquisition Specialist \nDee DePriest\, Talent Acquisition Specialist \n\n\n\n\n\n\nCenterstone | Employment Support Program
URL:https://centerstone.org/event/encoreworks-build-your-next-chapter-with-confidence/2026-05-20/
LOCATION:Centerstone Administrative Offices – Springfield\, MO\, 2885 West Battlefield Road\, Springfield\, MO\, 65807\, United States
CATEGORIES:Activity
ATTACH;FMTTYPE=image/jpeg:https://centerstone.org/wp-content/uploads/jpg/location_default_image_new_blue-scaled.jpg
GEO:37.1605859;-93.3365478
X-APPLE-STRUCTURED-LOCATION;VALUE=URI;X-ADDRESS=Centerstone Administrative Offices – Springfield MO 2885 West Battlefield Road Springfield MO 65807 United States;X-APPLE-RADIUS=500;X-TITLE=2885 West Battlefield Road:geo:-93.3365478,37.1605859
END:VEVENT
BEGIN:VEVENT
DTSTART;TZID=America/Chicago:20260525T110000
DTEND;TZID=America/Chicago:20260525T120000
DTSTAMP:20260424T160433
CREATED:20260424T135734Z
LAST-MODIFIED:20260424T135734Z
UID:10004411-1779706800-1779710400@centerstone.org
SUMMARY:EncoreWorks: Build Your Next Chapter with Confidence
DESCRIPTION:EncoreWorks: Build Your Next Chapter with Confidence\n\n\n\nJoin Centerstone for EncoreWorks\, a free four-week employment support program designed to help participants sharpen job search skills\, strengthen resumes\, and prepare for their next opportunity.\n \n\nMay 18 – June 10\, 2026\nMondays and Wednesdays\n11:00 a.m. – Noon CT\nSpringfield\, Missouri\n\n\n\nEvent Details\n\n\nLocation \nCenterstone Administrative Offices\, 2885 West Battlefield Road\, Springfield\, MO \n\n\nAbout This Program \n\nEncoreWorks is a no-cost employment support program offered by Centerstone\, the nation’s largest nonprofit behavioral health provider. It was created to help community members successfully navigate today’s job market.\n \n\n\nWho Should Attend \n\nThe program is open to anyone re-entering the workforce\, changing careers\, or looking for their next role. Individuals aged 50 and older are especially encouraged to participate.\n \n\n\nWhat to Bring \n\nParticipants are encouraged to bring a laptop if available. A limited number of loaner devices will be provided.\n \n\n\n\n\n\n\nQuick Details\n\nWhen: Every Monday and Wednesday\, May 18 – June 10\, 2026\nTime: 11:00 a.m. – Noon CT\nWhere: Centerstone Administrative Offices\nFormat: In-person\, facilitator-led sessions\nCost: Free\n\n\n\n\n\n\n\n\n\n\nWhat You’ll Gain\n\nResume development and refinement\nInterview preparation and techniques\nJob search strategies and best practices\nSupport navigating online job platforms\nConfidence in your professional story\n\n\n\n\n\n\n\nMeet the Facilitators\nDavida Norwood\, Talent Acquisition Specialist \nDee DePriest\, Talent Acquisition Specialist \n\n\n\n\n\n\nCenterstone | Employment Support Program
URL:https://centerstone.org/event/encoreworks-build-your-next-chapter-with-confidence/2026-05-25/
LOCATION:Centerstone Administrative Offices – Springfield\, MO\, 2885 West Battlefield Road\, Springfield\, MO\, 65807\, United States
CATEGORIES:Activity
ATTACH;FMTTYPE=image/jpeg:https://centerstone.org/wp-content/uploads/jpg/location_default_image_new_blue-scaled.jpg
GEO:37.1605859;-93.3365478
X-APPLE-STRUCTURED-LOCATION;VALUE=URI;X-ADDRESS=Centerstone Administrative Offices – Springfield MO 2885 West Battlefield Road Springfield MO 65807 United States;X-APPLE-RADIUS=500;X-TITLE=2885 West Battlefield Road:geo:-93.3365478,37.1605859
END:VEVENT
BEGIN:VEVENT
DTSTART;TZID=America/Chicago:20260527T110000
DTEND;TZID=America/Chicago:20260527T120000
DTSTAMP:20260424T160433
CREATED:20260424T135734Z
LAST-MODIFIED:20260424T135734Z
UID:10004412-1779879600-1779883200@centerstone.org
SUMMARY:EncoreWorks: Build Your Next Chapter with Confidence
DESCRIPTION:EncoreWorks: Build Your Next Chapter with Confidence\n\n\n\nJoin Centerstone for EncoreWorks\, a free four-week employment support program designed to help participants sharpen job search skills\, strengthen resumes\, and prepare for their next opportunity.\n \n\nMay 18 – June 10\, 2026\nMondays and Wednesdays\n11:00 a.m. – Noon CT\nSpringfield\, Missouri\n\n\n\nEvent Details\n\n\nLocation \nCenterstone Administrative Offices\, 2885 West Battlefield Road\, Springfield\, MO \n\n\nAbout This Program \n\nEncoreWorks is a no-cost employment support program offered by Centerstone\, the nation’s largest nonprofit behavioral health provider. It was created to help community members successfully navigate today’s job market.\n \n\n\nWho Should Attend \n\nThe program is open to anyone re-entering the workforce\, changing careers\, or looking for their next role. Individuals aged 50 and older are especially encouraged to participate.\n \n\n\nWhat to Bring \n\nParticipants are encouraged to bring a laptop if available. A limited number of loaner devices will be provided.\n \n\n\n\n\n\n\nQuick Details\n\nWhen: Every Monday and Wednesday\, May 18 – June 10\, 2026\nTime: 11:00 a.m. – Noon CT\nWhere: Centerstone Administrative Offices\nFormat: In-person\, facilitator-led sessions\nCost: Free\n\n\n\n\n\n\n\n\n\n\nWhat You’ll Gain\n\nResume development and refinement\nInterview preparation and techniques\nJob search strategies and best practices\nSupport navigating online job platforms\nConfidence in your professional story\n\n\n\n\n\n\n\nMeet the Facilitators\nDavida Norwood\, Talent Acquisition Specialist \nDee DePriest\, Talent Acquisition Specialist \n\n\n\n\n\n\nCenterstone | Employment Support Program
URL:https://centerstone.org/event/encoreworks-build-your-next-chapter-with-confidence/2026-05-27/
LOCATION:Centerstone Administrative Offices – Springfield\, MO\, 2885 West Battlefield Road\, Springfield\, MO\, 65807\, United States
CATEGORIES:Activity
ATTACH;FMTTYPE=image/jpeg:https://centerstone.org/wp-content/uploads/jpg/location_default_image_new_blue-scaled.jpg
GEO:37.1605859;-93.3365478
X-APPLE-STRUCTURED-LOCATION;VALUE=URI;X-ADDRESS=Centerstone Administrative Offices – Springfield MO 2885 West Battlefield Road Springfield MO 65807 United States;X-APPLE-RADIUS=500;X-TITLE=2885 West Battlefield Road:geo:-93.3365478,37.1605859
END:VEVENT
BEGIN:VEVENT
DTSTART;TZID=America/Chicago:20260601T110000
DTEND;TZID=America/Chicago:20260601T120000
DTSTAMP:20260424T160433
CREATED:20260424T135734Z
LAST-MODIFIED:20260424T135734Z
UID:10004413-1780311600-1780315200@centerstone.org
SUMMARY:EncoreWorks: Build Your Next Chapter with Confidence
DESCRIPTION:EncoreWorks: Build Your Next Chapter with Confidence\n\n\n\nJoin Centerstone for EncoreWorks\, a free four-week employment support program designed to help participants sharpen job search skills\, strengthen resumes\, and prepare for their next opportunity.\n \n\nMay 18 – June 10\, 2026\nMondays and Wednesdays\n11:00 a.m. – Noon CT\nSpringfield\, Missouri\n\n\n\nEvent Details\n\n\nLocation \nCenterstone Administrative Offices\, 2885 West Battlefield Road\, Springfield\, MO \n\n\nAbout This Program \n\nEncoreWorks is a no-cost employment support program offered by Centerstone\, the nation’s largest nonprofit behavioral health provider. It was created to help community members successfully navigate today’s job market.\n \n\n\nWho Should Attend \n\nThe program is open to anyone re-entering the workforce\, changing careers\, or looking for their next role. Individuals aged 50 and older are especially encouraged to participate.\n \n\n\nWhat to Bring \n\nParticipants are encouraged to bring a laptop if available. A limited number of loaner devices will be provided.\n \n\n\n\n\n\n\nQuick Details\n\nWhen: Every Monday and Wednesday\, May 18 – June 10\, 2026\nTime: 11:00 a.m. – Noon CT\nWhere: Centerstone Administrative Offices\nFormat: In-person\, facilitator-led sessions\nCost: Free\n\n\n\n\n\n\n\n\n\n\nWhat You’ll Gain\n\nResume development and refinement\nInterview preparation and techniques\nJob search strategies and best practices\nSupport navigating online job platforms\nConfidence in your professional story\n\n\n\n\n\n\n\nMeet the Facilitators\nDavida Norwood\, Talent Acquisition Specialist \nDee DePriest\, Talent Acquisition Specialist \n\n\n\n\n\n\nCenterstone | Employment Support Program
URL:https://centerstone.org/event/encoreworks-build-your-next-chapter-with-confidence/2026-06-01/
LOCATION:Centerstone Administrative Offices – Springfield\, MO\, 2885 West Battlefield Road\, Springfield\, MO\, 65807\, United States
CATEGORIES:Activity
ATTACH;FMTTYPE=image/jpeg:https://centerstone.org/wp-content/uploads/jpg/location_default_image_new_blue-scaled.jpg
GEO:37.1605859;-93.3365478
X-APPLE-STRUCTURED-LOCATION;VALUE=URI;X-ADDRESS=Centerstone Administrative Offices – Springfield MO 2885 West Battlefield Road Springfield MO 65807 United States;X-APPLE-RADIUS=500;X-TITLE=2885 West Battlefield Road:geo:-93.3365478,37.1605859
END:VEVENT
BEGIN:VEVENT
DTSTART;TZID=America/Chicago:20260603T110000
DTEND;TZID=America/Chicago:20260603T120000
DTSTAMP:20260424T160433
CREATED:20260424T135734Z
LAST-MODIFIED:20260424T135734Z
UID:10004414-1780484400-1780488000@centerstone.org
SUMMARY:EncoreWorks: Build Your Next Chapter with Confidence
DESCRIPTION:EncoreWorks: Build Your Next Chapter with Confidence\n\n\n\nJoin Centerstone for EncoreWorks\, a free four-week employment support program designed to help participants sharpen job search skills\, strengthen resumes\, and prepare for their next opportunity.\n \n\nMay 18 – June 10\, 2026\nMondays and Wednesdays\n11:00 a.m. – Noon CT\nSpringfield\, Missouri\n\n\n\nEvent Details\n\n\nLocation \nCenterstone Administrative Offices\, 2885 West Battlefield Road\, Springfield\, MO \n\n\nAbout This Program \n\nEncoreWorks is a no-cost employment support program offered by Centerstone\, the nation’s largest nonprofit behavioral health provider. It was created to help community members successfully navigate today’s job market.\n \n\n\nWho Should Attend \n\nThe program is open to anyone re-entering the workforce\, changing careers\, or looking for their next role. Individuals aged 50 and older are especially encouraged to participate.\n \n\n\nWhat to Bring \n\nParticipants are encouraged to bring a laptop if available. A limited number of loaner devices will be provided.\n \n\n\n\n\n\n\nQuick Details\n\nWhen: Every Monday and Wednesday\, May 18 – June 10\, 2026\nTime: 11:00 a.m. – Noon CT\nWhere: Centerstone Administrative Offices\nFormat: In-person\, facilitator-led sessions\nCost: Free\n\n\n\n\n\n\n\n\n\n\nWhat You’ll Gain\n\nResume development and refinement\nInterview preparation and techniques\nJob search strategies and best practices\nSupport navigating online job platforms\nConfidence in your professional story\n\n\n\n\n\n\n\nMeet the Facilitators\nDavida Norwood\, Talent Acquisition Specialist \nDee DePriest\, Talent Acquisition Specialist \n\n\n\n\n\n\nCenterstone | Employment Support Program
URL:https://centerstone.org/event/encoreworks-build-your-next-chapter-with-confidence/2026-06-03/
LOCATION:Centerstone Administrative Offices – Springfield\, MO\, 2885 West Battlefield Road\, Springfield\, MO\, 65807\, United States
CATEGORIES:Activity
ATTACH;FMTTYPE=image/jpeg:https://centerstone.org/wp-content/uploads/jpg/location_default_image_new_blue-scaled.jpg
GEO:37.1605859;-93.3365478
X-APPLE-STRUCTURED-LOCATION;VALUE=URI;X-ADDRESS=Centerstone Administrative Offices – Springfield MO 2885 West Battlefield Road Springfield MO 65807 United States;X-APPLE-RADIUS=500;X-TITLE=2885 West Battlefield Road:geo:-93.3365478,37.1605859
END:VEVENT
BEGIN:VEVENT
DTSTART;TZID=America/Chicago:20260608T110000
DTEND;TZID=America/Chicago:20260608T120000
DTSTAMP:20260424T160433
CREATED:20260424T135734Z
LAST-MODIFIED:20260424T135734Z
UID:10004415-1780916400-1780920000@centerstone.org
SUMMARY:EncoreWorks: Build Your Next Chapter with Confidence
DESCRIPTION:EncoreWorks: Build Your Next Chapter with Confidence\n\n\n\nJoin Centerstone for EncoreWorks\, a free four-week employment support program designed to help participants sharpen job search skills\, strengthen resumes\, and prepare for their next opportunity.\n \n\nMay 18 – June 10\, 2026\nMondays and Wednesdays\n11:00 a.m. – Noon CT\nSpringfield\, Missouri\n\n\n\nEvent Details\n\n\nLocation \nCenterstone Administrative Offices\, 2885 West Battlefield Road\, Springfield\, MO \n\n\nAbout This Program \n\nEncoreWorks is a no-cost employment support program offered by Centerstone\, the nation’s largest nonprofit behavioral health provider. It was created to help community members successfully navigate today’s job market.\n \n\n\nWho Should Attend \n\nThe program is open to anyone re-entering the workforce\, changing careers\, or looking for their next role. Individuals aged 50 and older are especially encouraged to participate.\n \n\n\nWhat to Bring \n\nParticipants are encouraged to bring a laptop if available. A limited number of loaner devices will be provided.\n \n\n\n\n\n\n\nQuick Details\n\nWhen: Every Monday and Wednesday\, May 18 – June 10\, 2026\nTime: 11:00 a.m. – Noon CT\nWhere: Centerstone Administrative Offices\nFormat: In-person\, facilitator-led sessions\nCost: Free\n\n\n\n\n\n\n\n\n\n\nWhat You’ll Gain\n\nResume development and refinement\nInterview preparation and techniques\nJob search strategies and best practices\nSupport navigating online job platforms\nConfidence in your professional story\n\n\n\n\n\n\n\nMeet the Facilitators\nDavida Norwood\, Talent Acquisition Specialist \nDee DePriest\, Talent Acquisition Specialist \n\n\n\n\n\n\nCenterstone | Employment Support Program
URL:https://centerstone.org/event/encoreworks-build-your-next-chapter-with-confidence/2026-06-08/
LOCATION:Centerstone Administrative Offices – Springfield\, MO\, 2885 West Battlefield Road\, Springfield\, MO\, 65807\, United States
CATEGORIES:Activity
ATTACH;FMTTYPE=image/jpeg:https://centerstone.org/wp-content/uploads/jpg/location_default_image_new_blue-scaled.jpg
GEO:37.1605859;-93.3365478
X-APPLE-STRUCTURED-LOCATION;VALUE=URI;X-ADDRESS=Centerstone Administrative Offices – Springfield MO 2885 West Battlefield Road Springfield MO 65807 United States;X-APPLE-RADIUS=500;X-TITLE=2885 West Battlefield Road:geo:-93.3365478,37.1605859
END:VEVENT
BEGIN:VEVENT
DTSTART;TZID=America/Chicago:20260610T110000
DTEND;TZID=America/Chicago:20260610T120000
DTSTAMP:20260424T160433
CREATED:20260424T135734Z
LAST-MODIFIED:20260424T135734Z
UID:10004416-1781089200-1781092800@centerstone.org
SUMMARY:EncoreWorks: Build Your Next Chapter with Confidence
DESCRIPTION:EncoreWorks: Build Your Next Chapter with Confidence\n\n\n\nJoin Centerstone for EncoreWorks\, a free four-week employment support program designed to help participants sharpen job search skills\, strengthen resumes\, and prepare for their next opportunity.\n \n\nMay 18 – June 10\, 2026\nMondays and Wednesdays\n11:00 a.m. – Noon CT\nSpringfield\, Missouri\n\n\n\nEvent Details\n\n\nLocation \nCenterstone Administrative Offices\, 2885 West Battlefield Road\, Springfield\, MO \n\n\nAbout This Program \n\nEncoreWorks is a no-cost employment support program offered by Centerstone\, the nation’s largest nonprofit behavioral health provider. It was created to help community members successfully navigate today’s job market.\n \n\n\nWho Should Attend \n\nThe program is open to anyone re-entering the workforce\, changing careers\, or looking for their next role. Individuals aged 50 and older are especially encouraged to participate.\n \n\n\nWhat to Bring \n\nParticipants are encouraged to bring a laptop if available. A limited number of loaner devices will be provided.\n \n\n\n\n\n\n\nQuick Details\n\nWhen: Every Monday and Wednesday\, May 18 – June 10\, 2026\nTime: 11:00 a.m. – Noon CT\nWhere: Centerstone Administrative Offices\nFormat: In-person\, facilitator-led sessions\nCost: Free\n\n\n\n\n\n\n\n\n\n\nWhat You’ll Gain\n\nResume development and refinement\nInterview preparation and techniques\nJob search strategies and best practices\nSupport navigating online job platforms\nConfidence in your professional story\n\n\n\n\n\n\n\nMeet the Facilitators\nDavida Norwood\, Talent Acquisition Specialist \nDee DePriest\, Talent Acquisition Specialist \n\n\n\n\n\n\nCenterstone | Employment Support Program
URL:https://centerstone.org/event/encoreworks-build-your-next-chapter-with-confidence/2026-06-10/
LOCATION:Centerstone Administrative Offices – Springfield\, MO\, 2885 West Battlefield Road\, Springfield\, MO\, 65807\, United States
CATEGORIES:Activity
ATTACH;FMTTYPE=image/jpeg:https://centerstone.org/wp-content/uploads/jpg/location_default_image_new_blue-scaled.jpg
GEO:37.1605859;-93.3365478
X-APPLE-STRUCTURED-LOCATION;VALUE=URI;X-ADDRESS=Centerstone Administrative Offices – Springfield MO 2885 West Battlefield Road Springfield MO 65807 United States;X-APPLE-RADIUS=500;X-TITLE=2885 West Battlefield Road:geo:-93.3365478,37.1605859
END:VEVENT
END:VCALENDAR